BEGIN:VCALENDAR
CALSCALE:GREGORIAN
X-WR-TIMEZONE;VALUE=TEXT:GMT
PRODID:PEAK Corporation - piCal -
X-WR-CALNAME;VALUE=TEXT:朗読サークル『萌え』勉強会
VERSION:2.0
METHOD:PUBLISH
BEGIN:VTIMEZONE
TZID:GMT
BEGIN:STANDARD
DTSTART:19390101T000000
TZOFFSETFROM:+0000
TZOFFSETTO:+0000
TZNAME:GMT
END:STANDARD
END:VTIMEZONE
BEGIN:VEVENT
DTSTART:20051105T050000Z
DTEND:20051105T060000Z
LOCATION:集酉楽サカタニ　カラオケルーム
TRANSP:OPAQUE
SEQUENCE:0
UID:pical060-537e79da3be0e85ffe78ef802cfaa3b6
DTSTAMP:20051008T093509Z
CATEGORIES:お知らせ
DESCRIPTION:
SUMMARY:朗読サークル『萌え』勉強会
PRIORITY:0
CLASS:PUBLIC
END:VEVENT
END:VCALENDAR
