BEGIN:VCALENDAR
CALSCALE:GREGORIAN
X-WR-TIMEZONE;VALUE=TEXT:GMT
PRODID:PEAK Corporation - piCal -
X-WR-CALNAME;VALUE=TEXT:集酉楽ギター教室
VERSION:2.0
METHOD:PUBLISH
BEGIN:VTIMEZONE
TZID:GMT
BEGIN:STANDARD
DTSTART:19390101T000000
TZOFFSETFROM:+0000
TZOFFSETTO:+0000
TZNAME:GMT
END:STANDARD
END:VTIMEZONE
BEGIN:VEVENT
DTSTART:20060201T090000Z
DTEND:20060201T120000Z
LOCATION:集酉楽サカタニ　カラオケルーム
TRANSP:OPAQUE
SEQUENCE:0
UID:pical060-45d2d19a32074bdacc9f2fb3b61959f3
DTSTAMP:20060121T103021Z
CATEGORIES:楽々イベント
DESCRIPTION:開催日：2006-2-1
SUMMARY:集酉楽ギター教室
PRIORITY:0
CLASS:PUBLIC
END:VEVENT
END:VCALENDAR
