BEGIN:VCALENDAR
CALSCALE:GREGORIAN
X-WR-TIMEZONE;VALUE=TEXT:GMT
PRODID:PEAK Corporation - piCal -
X-WR-CALNAME;VALUE=TEXT:オーバー・ザ・レインボー展　２ｎｄ．
VERSION:2.0
METHOD:PUBLISH
BEGIN:VTIMEZONE
TZID:GMT
BEGIN:STANDARD
DTSTART:19390101T000000
TZOFFSETFROM:+0000
TZOFFSETTO:+0000
TZNAME:GMT
END:STANDARD
END:VTIMEZONE
BEGIN:VEVENT
DTSTART:20060418T010000Z
DTEND:20060423T090000Z
LOCATION:集酉楽サカタニ　喫茶ルーム　集ｒｅ
TRANSP:OPAQUE
SEQUENCE:0
UID:pical060-9873efa478c728b796304a663db56087
DTSTAMP:20060312T105008Z
CATEGORIES:集reイベント
DESCRIPTION:開催日：2006-4-1〜4-30\n情報共同作業所に勤務されている４人の作家さんの\nコンピューター・グラフィクで描かれた絵の展覧会です。\n重度の障害を抱えながらも、その才能を遺憾なく発揮されている姿には、教えられることが多くあります。
SUMMARY:オーバー・ザ・レインボー展　２ｎｄ．
PRIORITY:0
CLASS:PUBLIC
END:VEVENT
END:VCALENDAR
