BEGIN:VCALENDAR
CALSCALE:GREGORIAN
X-WR-TIMEZONE;VALUE=TEXT:GMT
PRODID:PEAK Corporation - piCal -
X-WR-CALNAME;VALUE=TEXT:木村武司・島村尚子　二人展
VERSION:2.0
METHOD:PUBLISH
BEGIN:VTIMEZONE
TZID:GMT
BEGIN:STANDARD
DTSTART:19390101T000000
TZOFFSETFROM:+0000
TZOFFSETTO:+0000
TZNAME:GMT
END:STANDARD
END:VTIMEZONE
BEGIN:VEVENT
DTSTART:20060613T010000Z
DTEND:20060618T090000Z
LOCATION:集酉楽サカタニ　喫茶ルーム　集ｒｅ
TRANSP:OPAQUE
SEQUENCE:1
UID:pical060-f14ed321da7fd256a6c6c7e2d605488b
DTSTAMP:20060525T052554Z
CATEGORIES:集reイベント
DESCRIPTION:開催日：2006-6-1〜30　（月曜定休）\n\n花や京都の風景画などを中心に、展示いたします。
SUMMARY:木村武司・島村尚子　二人展
PRIORITY:0
CLASS:PUBLIC
END:VEVENT
END:VCALENDAR
