BEGIN:VCALENDAR
CALSCALE:GREGORIAN
X-WR-TIMEZONE;VALUE=TEXT:GMT
PRODID:PEAK Corporation - piCal -
X-WR-CALNAME;VALUE=TEXT:第２４回　音の風「音楽茶会」
VERSION:2.0
METHOD:PUBLISH
BEGIN:VTIMEZONE
TZID:GMT
BEGIN:STANDARD
DTSTART:19390101T000000
TZOFFSETFROM:+0000
TZOFFSETTO:+0000
TZNAME:GMT
END:STANDARD
END:VTIMEZONE
BEGIN:VEVENT
DTSTART:20060730T093000Z
DTEND:20060730T113000Z
LOCATION:集ｒｅ喫茶ルーム
TRANSP:OPAQUE
SEQUENCE:0
UID:pical060-7f15366a77d6f44a9472732ad40f6c70
DTSTAMP:20060621T081443Z
CATEGORIES:集reイベント
DESCRIPTION:開催日：2006-7-30\n第２３回音の風「音楽茶会」\nＮＰＯ法人「音の風」のメンバーによる音楽会。\n身近に音楽に親しんでいただきたく、\n月末の日曜日の夜に定期的に開催しています。\n毎回ジャンルが違う音楽が楽しめます。\n今回はNHK「ぐるっと関西」や京都新聞夕刊でも取り上げられた、\nringring(りんりん)さんが、オリジナル曲を\n披露いたします。\n\n参加費　５００円（お茶付）\n\n出演　ringring（りんりん）　　　\nボーカル　よしださつき　ピアノ　佐々木ゆか　　\n二胡　　　清水ひさえ\n
SUMMARY:第２４回　音の風「音楽茶会」
PRIORITY:0
CLASS:PUBLIC
END:VEVENT
END:VCALENDAR
