BEGIN:VCALENDAR
CALSCALE:GREGORIAN
X-WR-TIMEZONE;VALUE=TEXT:GMT
PRODID:PEAK Corporation - piCal -
X-WR-CALNAME;VALUE=TEXT:中高年ピアノサロン
VERSION:2.0
METHOD:PUBLISH
BEGIN:VTIMEZONE
TZID:GMT
BEGIN:STANDARD
DTSTART:19390101T000000
TZOFFSETFROM:+0000
TZOFFSETTO:+0000
TZNAME:GMT
END:STANDARD
END:VTIMEZONE
BEGIN:VEVENT
DTSTART:20060914T010000Z
DTEND:20060914T050000Z
LOCATION:集酉楽サカタニ　楽々ホール
TRANSP:OPAQUE
SEQUENCE:0
UID:pical060-1a795d7518207ed62987cd1d6f70ac61
DTSTAMP:20060822T114416Z
CATEGORIES:楽々イベント
DESCRIPTION:
SUMMARY:中高年ピアノサロン
PRIORITY:0
CLASS:PUBLIC
END:VEVENT
END:VCALENDAR
