BEGIN:VCALENDAR
CALSCALE:GREGORIAN
X-WR-TIMEZONE;VALUE=TEXT:GMT
PRODID:PEAK Corporation - piCal -
X-WR-CALNAME;VALUE=TEXT:PP&Mファンクラブ関西地区　懇親会＆セッション会
VERSION:2.0
METHOD:PUBLISH
BEGIN:VTIMEZONE
TZID:GMT
BEGIN:STANDARD
DTSTART:19390101T000000
TZOFFSETFROM:+0000
TZOFFSETTO:+0000
TZNAME:GMT
END:STANDARD
END:VTIMEZONE
BEGIN:VEVENT
DTSTART:20070602T050000Z
DTEND:20070602T090000Z
LOCATION:集酉楽サカタニ　楽々ホール
TRANSP:OPAQUE
SEQUENCE:0
UID:pical060-e3c0aeab58a23da21479cfd8be08033d
DTSTAMP:20070511T113916Z
CATEGORIES:楽々イベント
DESCRIPTION:開催日：2007-6-2　14：00〜18：00\n\n第一部　PPM&#039;Second　　 B,B&M　　 CARRY ON 　　 PePeM\n　　　　　　エントリーバンド増加中！\n第二部　セッションタイム　　但しPP&M曲だけで！\n　　　　　 お一人で参加の方も、歌ったり、ギターを弾いたりしてみませんか？\n　　　　　 サポート、楽器借りOK! 楽しくワイワイやりましょう！\n\nPP&M談義やPP&Mカバーバンドの演奏、また当日参加の皆様同士での\n即席PP&M演奏、またボーカルだけの参加も結構です。PP&Mを皆で\n一緒に歌いましょう。お知り合い、ご友人などPP&Mファンなら参加は非会員でも\n結構です。\n\n■参加のお申し込みは、下記エリアリーダーまで\n　北陸・近畿・中国エリアリーダー　松下雅春　西田隆朗　中野豊信　三田村英明\n\nFee ￥2,000 （予定）\nサカタニホール２F酒店・１Fファミリーマートで購入したものに\n限り持ち込み可（飲食各自購入で！！）\n
SUMMARY:PP&Mファンクラブ関西地区　懇親会＆セッション会
PRIORITY:0
CLASS:PUBLIC
END:VEVENT
END:VCALENDAR
