BEGIN:VCALENDAR
CALSCALE:GREGORIAN
X-WR-TIMEZONE;VALUE=TEXT:GMT
PRODID:PEAK Corporation - piCal -
X-WR-CALNAME;VALUE=TEXT:京都ファインダークラブ例会
VERSION:2.0
METHOD:PUBLISH
BEGIN:VTIMEZONE
TZID:GMT
BEGIN:STANDARD
DTSTART:19390101T000000
TZOFFSETFROM:+0000
TZOFFSETTO:+0000
TZNAME:GMT
END:STANDARD
END:VTIMEZONE
BEGIN:VEVENT
DTSTART:20070729T050000Z
DTEND:20070729T080000Z
LOCATION:集酉楽サカタニ　楽々ホール
TRANSP:OPAQUE
SEQUENCE:0
UID:pical060-b54776ccfc87046a9aadf333c19fae12
DTSTAMP:20070621T074005Z
CATEGORIES:楽々イベント
DESCRIPTION:開催日：2007-7-29
SUMMARY:京都ファインダークラブ例会
PRIORITY:0
CLASS:PUBLIC
END:VEVENT
END:VCALENDAR
