BEGIN:VCALENDAR
CALSCALE:GREGORIAN
X-WR-TIMEZONE;VALUE=TEXT:GMT
PRODID:PEAK Corporation - piCal -
X-WR-CALNAME;VALUE=TEXT:第３５回　音の風「音楽茶会」
VERSION:2.0
METHOD:PUBLISH
BEGIN:VTIMEZONE
TZID:GMT
BEGIN:STANDARD
DTSTART:19390101T000000
TZOFFSETFROM:+0000
TZOFFSETTO:+0000
TZNAME:GMT
END:STANDARD
END:VTIMEZONE
BEGIN:VEVENT
DTSTART:20070729T103000Z
DTEND:20070729T113000Z
LOCATION:集ｒｅ喫茶ルーム
TRANSP:OPAQUE
SEQUENCE:3
UID:pical060-23413e65f1c5b211c2147c0d2d2971c0
DTSTAMP:20070623T113811Z
CATEGORIES:集reイベント
DESCRIPTION:開催日：2007-7-29　19：30〜20：30\n音の風では身近に気軽に音楽に親しんでいただこうと、\n音の風「音楽茶会（おんがくちゃかい）」を定期的に開催しております。\n日曜日の夜にお茶を飲みながら、生演奏を楽しみませんか？　\n今回初登場。新ユニットお披露目です。\n\n出演\n\n〜　be transparent letter 〜（透き通る手紙）　　\n\nヴォーカル　吉田さつき\nピアノ　　　池田真由美\nベース　　　志賀行雄\n\n入場料　５００円（お茶付）
SUMMARY:第３５回　音の風「音楽茶会」
PRIORITY:0
CLASS:PUBLIC
END:VEVENT
END:VCALENDAR
