BEGIN:VCALENDAR
CALSCALE:GREGORIAN
X-WR-TIMEZONE;VALUE=TEXT:GMT
PRODID:PEAK Corporation - piCal -
X-WR-CALNAME;VALUE=TEXT:きくちゆみ　講演会
VERSION:2.0
METHOD:PUBLISH
BEGIN:VTIMEZONE
TZID:GMT
BEGIN:STANDARD
DTSTART:19390101T000000
TZOFFSETFROM:+0000
TZOFFSETTO:+0000
TZNAME:GMT
END:STANDARD
END:VTIMEZONE
BEGIN:VEVENT
DTSTART:20070729T010000Z
DTEND:20070729T030000Z
LOCATION:集酉楽サカタニ　楽々ホール
TRANSP:OPAQUE
SEQUENCE:0
UID:pical060-89482d0a316f14d18ae93c326b20430b
DTSTAMP:20070722T114652Z
CATEGORIES:楽々イベント
DESCRIPTION:開催日：2007-7-29　10：00〜12：00\nきくちゆみが京都へ来ます！講演会！\nあの９．１１は世界平和への鍵を握っている！\n\n９．１１のテロは、一部の支配者が仕組んだ、暴力を\n正当化させるためのフィクションだった！\nという証言を究明する為に、アメリカや日本各地で\n平和を訴えているきくちゆみさんが、参議院選挙の\n当日急遽京都で語ってくださることになりました。\nあの恐ろしい事件は、日本にも無関係ではありません。\n日本の平和を守り、世界の平和へつなげるのは、\n私達ひとりひとりの力です。\n日曜日の朝という時間帯ではありますが、\n多くの方に耳を傾けていただきたいと思っています。\n入場無料（カンパお願いします！）\n\n主催　９条に集う山科\n（連絡先・075-581-7634　野々口泰代）
SUMMARY:きくちゆみ　講演会
PRIORITY:0
CLASS:PUBLIC
END:VEVENT
END:VCALENDAR
