BEGIN:VCALENDAR
CALSCALE:GREGORIAN
X-WR-TIMEZONE;VALUE=TEXT:GMT
PRODID:PEAK Corporation - piCal -
X-WR-CALNAME;VALUE=TEXT:第３７回　NPO法人音の風「音楽茶会」
VERSION:2.0
METHOD:PUBLISH
BEGIN:VTIMEZONE
TZID:GMT
BEGIN:STANDARD
DTSTART:19390101T000000
TZOFFSETFROM:+0000
TZOFFSETTO:+0000
TZNAME:GMT
END:STANDARD
END:VTIMEZONE
BEGIN:VEVENT
DTSTART:20070930T103000Z
DTEND:20070930T113000Z
LOCATION:集ｒｅ喫茶ルーム
TRANSP:OPAQUE
SEQUENCE:1
UID:pical060-0d984df5c97c36fc59ece86965031a9b
DTSTAMP:20070830T011623Z
CATEGORIES:集reイベント
DESCRIPTION:開催日：2007-9-30　スタート19：30〜\n\n音の風では身近に気軽に音楽に親しんで頂こうと、\n音の風「音楽茶会（おんがくちゃかい）」を\n定期的に開催しております。\n今回初登場！！　武藤ケンイチトリオ　＋　竹田信彦　\n「ポップス・懐メロ・ジャズなど、ジャンルを問わず、\nいろいろな音楽を、バイオリンでお聞かせします。」\n\n武藤ケンイチ（むとう　けんいち）\n　ギタリスト・バイオリニスト\n　３歳よりバイオリンのレッスンを受ける。\n中学よりギターを独学で学び、クラシック音楽、\nポピュラー音楽の両方に親しむ。大学在学中より\nバンド活動をはじめ、２００１年ごろより本格的に\n活動開始。同時期に、トモ藤田氏（現バークリー音楽院助教授）より\nギターのレッスンを受ける。\n２００２年、トモ藤田氏と共演。以降、井上智氏、\nジーン・バートンシーニ氏にレッスンを受け、\nケリー・フリーゼン（ベーシスト）、ボブ・マキャッケン（ギタリスト）とセッションを経験。\n現在、ギター、バイオリンで、関西を中心に活躍中。\n\nメンバー　バイオリン　武藤ケンイチ　竹田信彦\n　　　　　　ギター　　　中野純\n　　　　　　ベース　　　斎藤一郎\n\n参加費　５００円（お茶付）\n\n
SUMMARY:第３７回　NPO法人音の風「音楽茶会」
PRIORITY:0
CLASS:PUBLIC
END:VEVENT
END:VCALENDAR
