BEGIN:VCALENDAR
CALSCALE:GREGORIAN
X-WR-TIMEZONE;VALUE=TEXT:GMT
PRODID:PEAK Corporation - piCal -
X-WR-CALNAME;VALUE=TEXT:健康フェアー　メナードサプリメント説明会
VERSION:2.0
METHOD:PUBLISH
BEGIN:VTIMEZONE
TZID:GMT
BEGIN:STANDARD
DTSTART:19390101T000000
TZOFFSETFROM:+0000
TZOFFSETTO:+0000
TZNAME:GMT
END:STANDARD
END:VTIMEZONE
BEGIN:VEVENT
DTSTART:20071004T013000Z
DTEND:20071004T050000Z
LOCATION:集ｒｅ喫茶ルーム
TRANSP:OPAQUE
SEQUENCE:1
UID:pical060-b9b6d38e87c1def4cd7d04ac8e1d7a3b
DTSTAMP:20070919T074228Z
CATEGORIES:集reイベント
DESCRIPTION:開催日：2007-10-4\n日頃気になること、知りたいこと・・・\n◇夏の疲れ目の栄養補給\n◇疲れ、冷えからの関節の痛みは？\n◇知っていますか？腸の働き\n　便はあなたの健康のバロメーター\n◆体年齢測定\n　基礎代謝・内臓脂肪・体脂肪・ＢＭＩ\n◆骨年齢測定\n　指１本でスピード測定\n※すべて無料で健康チェックできます。\n　（健康手帳プレゼント）\n※健康管理士による健康相談・指導コーナーにて\n　お気軽にご相談ください。\n\n主催　すこやか健康提案\n　　　メナードサプリハウス\n　　　チーム　癒（いやし）\n　　　電話　０７７４−６３−２０１７\n　　　当日連絡先　０９０−３６５４−７７３２\n
SUMMARY:健康フェアー　メナードサプリメント説明会
PRIORITY:0
CLASS:PUBLIC
END:VEVENT
END:VCALENDAR
