BEGIN:VCALENDAR
CALSCALE:GREGORIAN
X-WR-TIMEZONE;VALUE=TEXT:GMT
PRODID:PEAK Corporation - piCal -
X-WR-CALNAME;VALUE=TEXT:第４回　駅伝ライブ　ユニセフ　ハンド・イン・ハンド協賛イベント
VERSION:2.0
METHOD:PUBLISH
BEGIN:VTIMEZONE
TZID:GMT
BEGIN:STANDARD
DTSTART:19390101T000000
TZOFFSETFROM:+0000
TZOFFSETTO:+0000
TZNAME:GMT
END:STANDARD
END:VTIMEZONE
BEGIN:VEVENT
DTSTART:20071111T040000Z
DTEND:20071111T110000Z
LOCATION:集酉楽サカタニ　楽々ホール＆集ｒｅ喫茶ルーム＆ＦＭ店頭
TRANSP:OPAQUE
SEQUENCE:4
UID:pical060-a98070ef127b0c732cf8e89de4846ffc
DTSTAMP:20071109T115548Z
CATEGORIES:集reイベント,楽々イベント
DESCRIPTION:開催日：2007-11-11\n\n第４回駅伝ライブ\nユニセフ　ハンド・イン・ハンド　協賛イベント\n「守りたい　子どものいのち、未来」\n\n内容　「ハンド・イン・ハンド」とは１９７９年の国際\n児童年に始まったユニセフの募金活動です。現在、\n病気や貧困によって、１日に約３万人、年間に\n約１１００万もの子どもたちが、５歳の誕生日を\n迎えることなく命を落としています。\n　今回もこの活動に参加するために、４回目の\n駅伝ライブを企画しました。これまでと同様、ジャズ\nフォーク、ポップスなどいろいろなジャンルの\nミュージシャンが１７ユニット参加します。\n音楽を楽しみながら、子供達の未来のためにご協力を\nお願い致します。収益金は全額「ユニセフ　ハンド・\nイン・ハンド」に募金させて頂きます。\n\n参加協力金　５００円　\n領収印のついた半券提示で、何度でも入場できます。\n中学生以下無料\n\n場所　\n京都市東山区七条通本町西入日吉町２２２番地\n（京阪七条東へ徒歩１分・ファミリーマート２Ｆ）\n集酉楽（しゅう・ゆう・らく）サカタニ\n喫茶ルーム＆楽々ホール＆ファミマ店頭\n電話　　０７５‐５６１−７９７４\nＦＡＸ　０７５‐５６１−７９７４\nＥ−ｍａｉｌ　<a href="mailto:info@sosake.jp\">info@sosake.jp\</a><a href="nhttp://www.sosake.jp/\n\n協力　ＮＰＯ法人　音の風・沖縄音楽なぁ！・\n　　　ひょうたん島・?シガＭＥＣ　ＥＧＳ社\n　　　集酉楽サカタニ\n\n参加バンド\n　１．ＦＵＮ　ＦＵＮ　ＦＵＮ（ジャズ）\n　２．音の風ブラスチーム（ｐｏｐｓ）\n　３．潤（じゅん）（ジャズ）\n　４．ひょうたん島（ほっこり系音楽）\n　５．徳田恵美（津軽三味線）\n　６．fulare_pad＆ハイブスカス（ハワイアン）\n　７．井上昌俊とハッピーバンド\n　８．ファミマ店員feat.バンド（クラシック）＋池田真由美＆吉田さつき\n　９．沖縄音楽なぁ！\n１０．ＪＡＫＫＥＮ（ラテン）\n１１．さちやまな〜み（ｐｏｐｓ＆映画音楽）\n１２．Ｊ−ＭＡＣ’６５（ＧＳ＆ＰＯＰＳ）\n\nストリートライブ（ファミマ店頭）\nＡ．出前ちんどん\nＢ．フォーレスト（フォーク＆ＰＯＰＳ）\nＣ．奥村兄弟（オリジナル）\nＤ．石橋謙一郎（オリジナル＆ＰＯＰＳ）\nＥ." target="_blank">nhttp://www.sosake.jp/\n\n協力　ＮＰＯ法人　音の風・沖縄音楽なぁ！・\n　　　ひょうたん島・?シガＭＥＣ　ＥＧＳ社\n　　　集酉楽サカタニ\n\n参加バンド\n　１．ＦＵＮ　ＦＵＮ　ＦＵＮ（ジャズ）\n　２．音の風ブラスチーム（ｐｏｐｓ）\n　３．潤（じゅん）（ジャズ）\n　４．ひょうたん島（ほっこり系音楽）\n　５．徳田恵美（津軽三味線）\n　６．fulare_pad＆ハイブスカス（ハワイアン）\n　７．井上昌俊とハッピーバンド\n　８．ファミマ店員feat.バンド（クラシック）＋池田真由美＆吉田さつき\n　９．沖縄音楽なぁ！\n１０．ＪＡＫＫＥＮ（ラテン）\n１１．さちやまな〜み（ｐｏｐｓ＆映画音楽）\n１２．Ｊ−ＭＡＣ’６５（ＧＳ＆ＰＯＰＳ）\n\nストリートライブ（ファミマ店頭）\nＡ．出前ちんどん\nＢ．フォーレスト（フォーク＆ＰＯＰＳ）\nＣ．奥村兄弟（オリジナル）\nＤ．石橋謙一郎（オリジナル＆ＰＯＰＳ）\nＥ.</a> 福袋（いろいろ）\n \n
SUMMARY:第４回　駅伝ライブ　ユニセフ　ハンド・イン・ハンド協賛イベント
PRIORITY:0
CLASS:PUBLIC
END:VEVENT
END:VCALENDAR
