BEGIN:VCALENDAR
CALSCALE:GREGORIAN
X-WR-TIMEZONE;VALUE=TEXT:GMT
PRODID:PEAK Corporation - piCal -
X-WR-CALNAME;VALUE=TEXT:第２１回酉塾（ゆうじゅく）　２００７ボジョレー・ヌヴォーとクラシックを楽しむ会
VERSION:2.0
METHOD:PUBLISH
BEGIN:VTIMEZONE
TZID:GMT
BEGIN:STANDARD
DTSTART:19390101T000000
TZOFFSETFROM:+0000
TZOFFSETTO:+0000
TZNAME:GMT
END:STANDARD
END:VTIMEZONE
BEGIN:VEVENT
DTSTART:20071115T100000Z
DTEND:20071115T120000Z
LOCATION:集ｒｅ喫茶ルーム
TRANSP:OPAQUE
SEQUENCE:0
UID:pical060-e573946c79f2ea1d6fce01e268cffda1
DTSTAMP:20071019T092835Z
CATEGORIES:集reイベント
DESCRIPTION:開催日：2007-11-15　開場18：30　開始19：00〜\n\nボジョレー・ヌヴォーとクラシックを楽しむ会\n\n出演　\nクラシック演奏\n古澤光恵（ピアノ）\n古澤孝子（ヴァイオリン）\n姉妹による息の会った演奏をお楽しみください。\n\n参加費　一般　　　　　３３００円\n　　　　友の会会員様　３０００円\n　　　（ワイン・おつまみ込）\n\nお申し込み・お問い合わせ\n集酉楽サカタニまで\n電話　０７５‐５６１−７９７４
SUMMARY:第２１回酉塾（ゆうじゅく）　２００７ボジョレー・ヌヴォーとクラシックを楽しむ会
PRIORITY:0
CLASS:PUBLIC
END:VEVENT
END:VCALENDAR
