BEGIN:VCALENDAR
CALSCALE:GREGORIAN
X-WR-TIMEZONE;VALUE=TEXT:GMT
PRODID:PEAK Corporation - piCal -
X-WR-CALNAME;VALUE=TEXT:２８−Ｂｌｏｗ　Ａｒｔ　ｅｘｈｉｂｉｔｉｏｎ　７
VERSION:2.0
METHOD:PUBLISH
BEGIN:VTIMEZONE
TZID:GMT
BEGIN:STANDARD
DTSTART:19390101T000000
TZOFFSETFROM:+0000
TZOFFSETTO:+0000
TZNAME:GMT
END:STANDARD
END:VTIMEZONE
BEGIN:VEVENT
DTSTART:20071116T040000Z
DTEND:20071118T120000Z
LOCATION:集酉楽サカタニ　楽々ホール
TRANSP:OPAQUE
SEQUENCE:1
UID:pical060-522cecf1dadc37a6923f0910e51d22ea
DTSTAMP:20071019T093317Z
CATEGORIES:楽々イベント
DESCRIPTION:開催日：2007-11-16〜18　13：00〜21：00\n\nプロアマ・年齢、性別、国籍、ジャンル一切関係なし。\n約４０名のアーティストによる、何でもアリのアートの祭典。
SUMMARY:２８−Ｂｌｏｗ　Ａｒｔ　ｅｘｈｉｂｉｔｉｏｎ　７
PRIORITY:0
CLASS:PUBLIC
END:VEVENT
END:VCALENDAR
