BEGIN:VCALENDAR
CALSCALE:GREGORIAN
X-WR-TIMEZONE;VALUE=TEXT:GMT
PRODID:PEAK Corporation - piCal -
X-WR-CALNAME;VALUE=TEXT:「ボジョレー・ヌヴォー試飲とフォークソングの夕べ」
VERSION:2.0
METHOD:PUBLISH
BEGIN:VTIMEZONE
TZID:GMT
BEGIN:STANDARD
DTSTART:19390101T000000
TZOFFSETFROM:+0000
TZOFFSETTO:+0000
TZNAME:GMT
END:STANDARD
END:VTIMEZONE
BEGIN:VEVENT
DTSTART:20071123T100000Z
DTEND:20071123T120000Z
LOCATION:集ｒｅ喫茶ルーム
TRANSP:OPAQUE
SEQUENCE:1
UID:pical060-d7cca4870771bd171cc4a8d2a4355cf9
DTSTAMP:20071019T095735Z
CATEGORIES:集reイベント
DESCRIPTION:開催日：2007-11-23　スタート19：00〜\n\n早川嘉美税理士事務所　３５周年プレイベント\n「ボジョレー・ヌヴォー試飲とフォークソングの夕べ」\n\n参加費　３５００円　予約制（最大４０名）\n予約電話　０７５‐５５１−００８２
SUMMARY:「ボジョレー・ヌヴォー試飲とフォークソングの夕べ」
PRIORITY:0
CLASS:PUBLIC
END:VEVENT
END:VCALENDAR
