BEGIN:VCALENDAR
CALSCALE:GREGORIAN
X-WR-TIMEZONE;VALUE=TEXT:GMT
PRODID:PEAK Corporation - piCal -
X-WR-CALNAME;VALUE=TEXT:第１６回　こころ坂「楽々落語会」
VERSION:2.0
METHOD:PUBLISH
BEGIN:VTIMEZONE
TZID:GMT
BEGIN:STANDARD
DTSTART:19390101T000000
TZOFFSETFROM:+0000
TZOFFSETTO:+0000
TZNAME:GMT
END:STANDARD
END:VTIMEZONE
BEGIN:VEVENT
DTSTART:20080827T093000Z
DTEND:20080827T120000Z
LOCATION:集酉楽サカタニ　楽々ホール
TRANSP:OPAQUE
SEQUENCE:0
UID:pical060-3ae8e85c1d19ead37ab9cce6e44d94a8
DTSTAMP:20080718T021448Z
CATEGORIES:
DESCRIPTION:開催日：2008-8-27　開場18：30　開演19：00\n\n第１６回　こころ坂「楽々落語会」\n\n演目＆出演者\n\n子ほめ・・・・桂　三四郎\n天狗裁き・・・桂　米　二\nあくびの稽古・桂　あさ吉\nたちぎれ・・・桂　米　二\n　　　　　　　　　　　　　三味線　大川貴子\n\n木戸銭　前売・予約　1500円　当日　1800円\n\n電話予約・お問い合わせ\n集酉楽（ｓｙｕ−ｙｕ−ｒａｋｕ）サカタニ\n電話　075‐561-7974\nＥ−ｍａｉｌ　<a href="mailto:info@sosake.jp\n\n★満席が続いております。お早めに、ご予約ください。\n">info@sosake.jp\n\n★満席が続いております。お早めに、ご予約ください。\n</a>
SUMMARY:第１６回　こころ坂「楽々落語会」
PRIORITY:0
CLASS:PUBLIC
END:VEVENT
END:VCALENDAR
