BEGIN:VCALENDAR
CALSCALE:GREGORIAN
X-WR-TIMEZONE;VALUE=TEXT:GMT
PRODID:PEAK Corporation - piCal -
X-WR-CALNAME;VALUE=TEXT:ジャズを聴きながらボジョレーを楽しむ会
VERSION:2.0
METHOD:PUBLISH
BEGIN:VTIMEZONE
TZID:GMT
BEGIN:STANDARD
DTSTART:19390101T000000
TZOFFSETFROM:+0000
TZOFFSETTO:+0000
TZNAME:GMT
END:STANDARD
END:VTIMEZONE
BEGIN:VEVENT
DTSTART:20081129T093000Z
DTEND:20081129T123000Z
LOCATION:集ｒｅ喫茶ルーム
TRANSP:OPAQUE
SEQUENCE:1
UID:pical060-b43516cf4cdc195a5bc077e1101f15bd
DTSTAMP:20081009T035555Z
CATEGORIES:集reイベント
DESCRIPTION:開催日：2008-11-29\n\n２００８年ボジョレー・ヴィラージュ・ヌーヴォーなど\n５種類のワインを試飲。\nジャズを聴きながら楽しんでいただきます。\n\n参加費　３０００円\n\nお問い合わせ\n丸山純平さん\n０７５-４６４−４０７７
SUMMARY:ジャズを聴きながらボジョレーを楽しむ会
PRIORITY:0
CLASS:PUBLIC
END:VEVENT
END:VCALENDAR
