BEGIN:VCALENDAR
CALSCALE:GREGORIAN
X-WR-TIMEZONE;VALUE=TEXT:GMT
PRODID:PEAK Corporation - piCal -
X-WR-CALNAME;VALUE=TEXT:楽々クラブ　１２月例会
VERSION:2.0
METHOD:PUBLISH
BEGIN:VTIMEZONE
TZID:GMT
BEGIN:STANDARD
DTSTART:19390101T000000
TZOFFSETFROM:+0000
TZOFFSETTO:+0000
TZNAME:GMT
END:STANDARD
END:VTIMEZONE
BEGIN:VEVENT
DTSTART:20091212T093000Z
DTEND:20091212T120000Z
LOCATION:集酉楽サカタニ　ギャラリーカフェ
TRANSP:OPAQUE
SEQUENCE:0
UID:pical060-791e21335d9464d88868155a573e0951
DTSTAMP:20091126T053640Z
CATEGORIES:集reイベント
DESCRIPTION:開催日：2009-12-12　18：30〜21：00\n\n楽々クラブ\n\n★参加型宴ターテイメント★\n\n思いきり歌って弾いて騒ぎませんか！！\n\n参加費　３０００円（お弁当・おつまみ付）\n飲み物（お酒・ジュースなど）は、\n別途各自サカタニにてお買い求め下さい。\n\n会場　集酉楽サカタニ　ギャラリーカフェ\n七条京阪東　徒歩１分（ファミリーマート2F)\n\nご予約は\n集酉楽(syu-yu-raku)サカタニ\n電話　　075-561-7974\nFAX 　　075-561-6710\nメール　<a href="mailto:info@sosake.jp\nＵＲＬ　　">info@sosake.jp\nＵＲＬ　　</a><a href="http://www.sosake.jp/\n" target="_blank">http://www.sosake.jp/\n</a>
SUMMARY:楽々クラブ　１２月例会
PRIORITY:0
CLASS:PUBLIC
END:VEVENT
END:VCALENDAR
