BEGIN:VCALENDAR
CALSCALE:GREGORIAN
X-WR-TIMEZONE;VALUE=TEXT:GMT
PRODID:PEAK Corporation - piCal -
X-WR-CALNAME;VALUE=TEXT:第７４回　朝粥食べて、おシャベリ会
VERSION:2.0
METHOD:PUBLISH
BEGIN:VTIMEZONE
TZID:GMT
BEGIN:STANDARD
DTSTART:19390101T000000
TZOFFSETFROM:+0000
TZOFFSETTO:+0000
TZNAME:GMT
END:STANDARD
END:VTIMEZONE
BEGIN:VEVENT
DTSTART:20110220T000000Z
DTEND:20110220T013000Z
LOCATION:集酉楽サカタニ　ギャラリーカフェ
TRANSP:OPAQUE
SEQUENCE:2
UID:pical060-926818d0b33e73b1106d304cb7acebbe
DTSTAMP:20110126T103717Z
CATEGORIES:集reイベント
DESCRIPTION:開催日：2011-2-20　9：00〜10：30\n\n９：００〜　９：４０　\n\nお話　「東山・大津より平和を発信」\nベトちゃん、ドクちゃんの発達を願う会\n代表　藤本文朗様\n　\n９：４０〜１０：３０　\n\n朝粥食べて、おシャベリ会\n　　　　　　　　　　\n必ずご予約下さい。\n(申し込み締切日　２月１８日　金曜日)\n参加費　300円（友の会会員様200円）\n\n\n藤本文朗（ふじもとぶんろう）さん\nプロフィール\n１９３５年京都府生れ。\n滋賀大学名誉教授。\n「ベトちゃん、ドクちゃんの発達を願う会」代表。\n京都大学大学院終了（マスターコース）、\n博士（教育学）、全国障害者問題研究会顧問、\nアジア高齢者福祉研究会代表。\n著書・論文に\n（手づくりの国際理解教育−ベトナム障害児\nスタディーツアー（クリエイツかもがわ、2008）など\n多数。\n京都オムロンヒューマン大賞（2005年）、\nベトナム大統領人民友好賞（2006年）など。\n
SUMMARY:第７４回　朝粥食べて、おシャベリ会
PRIORITY:0
CLASS:PUBLIC
END:VEVENT
END:VCALENDAR
