BEGIN:VCALENDAR
CALSCALE:GREGORIAN
X-WR-TIMEZONE;VALUE=TEXT:GMT
PRODID:PEAK Corporation - piCal -
X-WR-CALNAME;VALUE=TEXT:定休日
VERSION:2.0
METHOD:PUBLISH
BEGIN:VTIMEZONE
TZID:GMT
BEGIN:STANDARD
DTSTART:19390101T000000
TZOFFSETFROM:+0000
TZOFFSETTO:+0000
TZNAME:GMT
END:STANDARD
END:VTIMEZONE
BEGIN:VEVENT
DTSTART;VALUE=DATE:20111128
DTEND;VALUE=DATE:20111129
LOCATION:
TRANSP:OPAQUE
SEQUENCE:0
UID:pical060-b703e3a7af264b35d236eb22707afa48
DTSTAMP:20111026T104315Z
CATEGORIES:
DESCRIPTION:
SUMMARY:定休日
PRIORITY:0
CLASS:PUBLIC
END:VEVENT
END:VCALENDAR
