BEGIN:VCALENDAR
CALSCALE:GREGORIAN
X-WR-TIMEZONE;VALUE=TEXT:GMT
PRODID:PEAK Corporation - piCal -
X-WR-CALNAME;VALUE=TEXT:『第1回　師走恒例！　Milkyway vs Fitband 一本勝負』
VERSION:2.0
METHOD:PUBLISH
BEGIN:VTIMEZONE
TZID:GMT
BEGIN:STANDARD
DTSTART:19390101T000000
TZOFFSETFROM:+0000
TZOFFSETTO:+0000
TZNAME:GMT
END:STANDARD
END:VTIMEZONE
BEGIN:VEVENT
DTSTART:20111204T053000Z
DTEND:20111204T090000Z
LOCATION:集酉楽サカタニ　楽々ホール
TRANSP:OPAQUE
SEQUENCE:0
UID:pical060-4b1eaa121652a82c3a184139ee377607
DTSTAMP:20111125T092358Z
CATEGORIES:楽々イベント
DESCRIPTION:開催日：2011-12-4　14：30開場　15：00開演\n\n『第1回師走恒例！　Milkyway vs Fitband 一本勝負』\n\n入場無料（投げ銭歓迎）\n\n15：00〜　Milkyway\n\n16：00〜　Fitband\n\n17：00〜　ジョイント
SUMMARY:『第1回　師走恒例！　Milkyway vs Fitband 一本勝負』
PRIORITY:0
CLASS:PUBLIC
END:VEVENT
END:VCALENDAR
