BEGIN:VCALENDAR
CALSCALE:GREGORIAN
X-WR-TIMEZONE;VALUE=TEXT:GMT
PRODID:PEAK Corporation - piCal -
X-WR-CALNAME;VALUE=TEXT:吉村佳容　フルートコンサート　〜あれから１５年・・・〜
VERSION:2.0
METHOD:PUBLISH
BEGIN:VTIMEZONE
TZID:GMT
BEGIN:STANDARD
DTSTART:19390101T000000
TZOFFSETFROM:+0000
TZOFFSETTO:+0000
TZNAME:GMT
END:STANDARD
END:VTIMEZONE
BEGIN:VEVENT
DTSTART:20120407T043000Z
DTEND:20120407T080000Z
LOCATION:集酉楽サカタニ　楽々ホール
TRANSP:OPAQUE
SEQUENCE:2
UID:pical060-e58c499ebbfb03ca32fcecad66f2f9e9
DTSTAMP:20120321T101236Z
CATEGORIES:楽々イベント
DESCRIPTION:開催日：2012-4-7　14：00開演（13：30開場）\n\n吉村佳容　フルートコンサート\n〜あれから１５年・・・〜\n\nフルート　　吉村　佳容\nピアノ　　　 槇　智花\nギター　　　松岡　滋\nフルート　　雨林　美由紀\n\n会場　集酉楽（syu-yu-raku)サカタニ・楽々ホール（全席自由）\n　　　　京阪七条東徒歩１分　ファミマ２F\n\n料金　一般・大学生　前売　２５００円　　当日　３０００円\n　　　　高校生以下　　前売　１８００円　　当日　２０００円\n\nプログラム\nGary Schoker &quot;DREAM TRAVELS&quot;\nMike Mower &quot;SONATA LATINO&quot;\nAstor Piazzolla &quot;HISTOIRE TANGO&quot;\nGary Schoker &quot;THREE DANCES&quot;\nほか\n\nお問い合わせ\n090-2114-6979 \n\<a href="nhttp://www5.hp-ez.com/hp/yoshimurakayo/page1" target="_blank">nhttp://www5.hp-ez.com/hp/yoshimurakayo/page1</a>
SUMMARY:吉村佳容　フルートコンサート　〜あれから１５年・・・〜
PRIORITY:0
CLASS:PUBLIC
END:VEVENT
END:VCALENDAR
